BEGIN:VCALENDAR
VERSION:2.0
PRODID:-//rooster/egg//NONSGML v1.0//EN
BEGIN:VTIMEZONE
TZID:Pacific/Auckland
TZURL:http://tzurl.org/zoneinfo-outlook/Pacific/Auckland
X-LIC-LOCATION:Pacific/Auckland
BEGIN:DAYLIGHT
TZOFFSETFROM:+1200
TZOFFSETTO:+1300
TZNAME:NZDT
DTSTART:19700927T020000
RRULE:FREQ=YEARLY;BYMONTH=9;BYDAY=-1SU
END:DAYLIGHT
BEGIN:STANDARD
TZOFFSETFROM:+1300
TZOFFSETTO:+1200
TZNAME:NZST
DTSTART:19700405T030000
RRULE:FREQ=YEARLY;BYMONTH=4;BYDAY=1SU
END:STANDARD
END:VTIMEZONE
BEGIN:VEVENT
ORGANIZER:Sarah Fox:mailto:sjfox03@icloud.com
DTSTART:20260716T073000
DTEND:20260716T170000
LOCATION:Corwen, Maes Truan, Ruthin
SEQUENCE:0
UID:755c30fea5a9bdd0f5572d5d98b22025elitewoolindustrytraining.com
DTSTAMP:20260419T180702Z
DESCRIPTION:HIGH PERFORMANCE LAMB SHEARING COURSE.\n\nTHE COURSE INCLUDES -\n\n 	* ADJUSTING YOUR LAMB SHEARING PATTERN (IF NECESSARY) WITH SOME OF\nTHE BEST INSTRUCTORS AROUND.\n 	* UNDERSTANDING THE JUDGING SYSTEM AND HOW IT WORKS.\n 	* FOCUS ON MINIMISING COMMON SHEARING FAULTS \n 	* GEAR SESSIONS AND COMB SELECTION.\n 	* HOW TO PREPARE FOR A BIG EVENT.\n\n \n\n \n - sjfox03@icloud.com - https://book.elitewoolindustrytraining.com/event260
SUMMARY:Corwen Pre Shears - Lamb Shearing Course
END:VEVENT
END:VCALENDAR