BEGIN:VCALENDAR
VERSION:2.0
PRODID:-//rooster/egg//NONSGML v1.0//EN
BEGIN:VTIMEZONE
TZID:Pacific/Auckland
TZURL:http://tzurl.org/zoneinfo-outlook/Pacific/Auckland
X-LIC-LOCATION:Pacific/Auckland
BEGIN:DAYLIGHT
TZOFFSETFROM:+1200
TZOFFSETTO:+1300
TZNAME:NZDT
DTSTART:19700927T020000
RRULE:FREQ=YEARLY;BYMONTH=9;BYDAY=-1SU
END:DAYLIGHT
BEGIN:STANDARD
TZOFFSETFROM:+1300
TZOFFSETTO:+1200
TZNAME:NZST
DTSTART:19700405T030000
RRULE:FREQ=YEARLY;BYMONTH=4;BYDAY=1SU
END:STANDARD
END:VTIMEZONE
BEGIN:VEVENT
ORGANIZER:Sarah Fox:mailto:sjfox03@icloud.com
DTSTART:20260708T073000
DTEND:20260709T170000
LOCATION:Western Lake District, Broughton-in-Furness, Cumbria, Crosbythwaite Farm, LA20 6DY
SEQUENCE:0
UID:94fd0deb921570edb62216e10069b454elitewoolindustrytraining.com
DTSTAMP:20260419T174538Z
DESCRIPTION: \n\n \n\n      \n\n \n\nIMPROVER TO ADVANCED SHEARING.\n\nThis is a TWO-DAY COURSE open to those who have been shearing in the\nindustry and have achieved the minimum of the "Blue Seal" (shear 6\nsheep per hour), or can shear 100 + sheep per day. The course will\ncover instruction and practical training in the following: \n\n 	* Health and Safety in the Industry.\n 	* Animal Welfare and Animal Handling \n 	* Team Work\n 	* Comb selection and gear experting\n 	* Machine and Handpiece Maintenance\n 	* Grinding (sharpening) Combs and Cutters \n 	* High level of instruction on pattern, and helping improve quality\nand tallies\n 	* A pathway to the next level\n\nThis will be a 2-day practical course for all ability levels. \n\n \n\n*PLEASE NOTE ALL COURSES ARE SUBJECT TO DATE CHANGES DEPENDING ON\nWEATHER AT THE TIME*\n\n \n - sjfox03@icloud.com - https://book.elitewoolindustrytraining.com/event359
SUMMARY:Western Lake District - Improver/Advanced Herdwick Shearing
END:VEVENT
END:VCALENDAR