BEGIN:VCALENDAR
VERSION:2.0
PRODID:-//rooster/egg//NONSGML v1.0//EN
BEGIN:VTIMEZONE
TZID:Pacific/Auckland
TZURL:http://tzurl.org/zoneinfo-outlook/Pacific/Auckland
X-LIC-LOCATION:Pacific/Auckland
BEGIN:DAYLIGHT
TZOFFSETFROM:+1200
TZOFFSETTO:+1300
TZNAME:NZDT
DTSTART:19700927T020000
RRULE:FREQ=YEARLY;BYMONTH=9;BYDAY=-1SU
END:DAYLIGHT
BEGIN:STANDARD
TZOFFSETFROM:+1300
TZOFFSETTO:+1200
TZNAME:NZST
DTSTART:19700405T030000
RRULE:FREQ=YEARLY;BYMONTH=4;BYDAY=1SU
END:STANDARD
END:VTIMEZONE
BEGIN:VEVENT
ORGANIZER:Sarah Fox:mailto:sjfox03@icloud.com
DTSTART:20260528T073000
DTEND:20260529T170000
LOCATION:Dunsyre, North Deanhead Farm, ML11 8NG, Lanark
SEQUENCE:0
UID:c7b34379c9fed04d0c7a2dc4ecb5aff6elitewoolindustrytraining.com
DTSTAMP:20260419T175758Z
DESCRIPTION: \n\nBEGINNER SHEARING\n\nThis is a TWO-DAY COURSE open to those of any experience level. The\ncourse will cover instruction and practical training in the\nfollowing: \n\n 	* Health and Safety in the Industry.\n 	* Animal Welfare and Animal Handling \n 	* Team Work\n 	* Comb selection and gear experting\n 	* Machine and Handpiece Maintenance\n 	* Grinding (sharpening) Combs and Cutters \n 	* High level of instruction on pattern, and helping improve quality\nand tallies\n 	* A pathway to the next level\n\n \n\n*PLEASE NOTE ALL COURSES ARE SUBJECT TO DATE CHANGES DEPENDING ON\nWEATHER AT THE TIME*\n - sjfox03@icloud.com - https://book.elitewoolindustrytraining.com/event353
SUMMARY:Dunsyre - Beginner Shearing
END:VEVENT
END:VCALENDAR