BEGIN:VCALENDAR
VERSION:2.0
PRODID:-//rooster/egg//NONSGML v1.0//EN
BEGIN:VTIMEZONE
TZID:Pacific/Auckland
TZURL:http://tzurl.org/zoneinfo-outlook/Pacific/Auckland
X-LIC-LOCATION:Pacific/Auckland
BEGIN:DAYLIGHT
TZOFFSETFROM:+1200
TZOFFSETTO:+1300
TZNAME:NZDT
DTSTART:19700927T020000
RRULE:FREQ=YEARLY;BYMONTH=9;BYDAY=-1SU
END:DAYLIGHT
BEGIN:STANDARD
TZOFFSETFROM:+1300
TZOFFSETTO:+1200
TZNAME:NZST
DTSTART:19700405T030000
RRULE:FREQ=YEARLY;BYMONTH=4;BYDAY=1SU
END:STANDARD
END:VTIMEZONE
BEGIN:VEVENT
ORGANIZER:Sarah Fox:mailto:sjfox03@icloud.com
DTSTART:20260512T073000
DTEND:20260513T170000
LOCATION:Corwen, Maes Truan Farm, Llanalidon, Ruthin, LL15 2RN
SEQUENCE:0
UID:8eccf496511e2a2372b47c73a9f31e1belitewoolindustrytraining.com
DTSTAMP:20260419T180810Z
DESCRIPTION: \n\n \n\n      \n\n \n\n \n\nAll of these Shearing & Woolhandling training courses are available\nto be subsidised by up to 80% FOR REGISTERED INDIVIDUALS (WALES ONLY\n- CONDITIONS APPLY). Before you book the course please contact your\nlocal Farming Connect Liaison Officer in order to apply for funding.\n\nFUNDING MUST BE CONFIRMED BEFORE YOU BOOK ON TO THE COURSE. \n\nAnyone who is NOT eligible for the funding or lives outside of Wales\nwill be charged the normal course fee.\n\nElite Wool Industry Training UK are pleased to be working in\npartnership with Coleg Cambria Llysfasi as the provider of Beginner\nand Advanced Shearing Courses & Woolhandling Courses. These courses\nare eligible for up to 80% Farming Connect funding (Wales Only,\nconditions apply). Please book online today\n-https://www.elitewoolindustrytraining.co.uk/book-courses/\n\nFor further information on eligibility for funding, please contact a\nFarming Connect Development Officer on the link below.\n\nhttps://businesswales.gov.wales/farmingconnect/contact-us/your-local-development-officer\n\n 	* All training courses can be subsidised by up to 80% FOR\nREGISTERED INDIVIDUALS (WALES ONLY CONDITIONS APPLY)\n 	* APPLYING FOR FARMING CONNECT SKILLS AND TRAINING IS LARGELY AN\nONLINE PROCESS BUT YOU CAN ACCESS ONE-TO-ONE HELP AND SUPPORT AT ANY\nSTAGE YOU MIGHT NEED IT.  \n 	* For more information on future support available please contact\n…\n 	* ✔ your local Farming Connect DEVELOPMENT OFFICER\n[https://businesswales.gov.wales/farmingconnect/contact-us/your-local-development-officer]…or\n 	* ✔ your selected training provider…or\n 	* ✔ the Farming Connect Service Centre on 03456 000 813\n[tel:03456000813]\n 	* ✔ Follow the ONLINE STEP-BY-STEP\n[https://businesswales.gov.wales/farmingconnect/business/skills-and-training/training-courses/how-apply-funded-training-course] guide\n\n \n\nIMPROVER TO ADVANCED SHEARING.\n\nThis is a TWO-DAY COURSE open to those who have been shearing in the\nindustry and have achieved the minimum of the "Blue Seal" (shear 6\nsheep per hour), or can shear 100 + sheep per day. The course will\ncover instruction and practical training in the following: \n\n 	* Health and Safety in the Industry.\n 	* Animal Welfare and Animal Handling \n 	* Team Work\n 	* Comb selection and gear experting\n 	* Machine and Handpiece Maintenance\n 	* Grinding (sharpening) Combs and Cutters \n 	* High level of instruction on pattern, and helping improve quality\nand tallies\n 	* A pathway to the next level\n\nThis will be a 2-day practical course for all ability levels. \n\n \n\nBEGINNER SHEARING\n\nThis is a TWO-DAY COURSE open to those of any experience level. The\ncourse will cover instruction and practical training in the\nfollowing: \n\n 	* Health and Safety in the Industry.\n 	* Animal Welfare and Animal Handling \n 	* Team Work\n 	* Comb selection and gear experting\n 	* Machine and Handpiece Maintenance\n 	* Grinding (sharpening) Combs and Cutters \n 	* High level of instruction on pattern, and helping improve quality\nand tallies\n 	* A pathway to the next level\n\n \n\nWOOLHANDLING\n\nThis will be a TWO-DAY PRACTICAL COURSE for all ability levels. \n\nFor woolhandlers of all experience levels \n\n 	* Health & Safety \n 	* Wool terminology\n 	* Practical Training in woolhandling\n 	* Packing (or pressing) and stitching woolsacks \n 	* Preparation guidelines for Full Wool,\n 	* Non-technical exercises\n 	* Theory exercises\n 	*  Practical assessment for Certificate in Woolhandling \n 	* Certification recognised by contractors in NZ\n\n \n\n*PLEASE NOTE ALL COURSES ARE SUBJECT TO DATE CHANGES DEPENDING ON\nWEATHER AT THE TIME*\n - sjfox03@icloud.com - https://book.elitewoolindustrytraining.com/event347
SUMMARY:Corwen - Combined  Beginner & Advanced Shearing and Woolhandling
END:VEVENT
END:VCALENDAR