BEGIN:VCALENDAR
VERSION:2.0
PRODID:-//rooster/egg//NONSGML v1.0//EN
BEGIN:VTIMEZONE
TZID:Pacific/Auckland
TZURL:http://tzurl.org/zoneinfo-outlook/Pacific/Auckland
X-LIC-LOCATION:Pacific/Auckland
BEGIN:DAYLIGHT
TZOFFSETFROM:+1200
TZOFFSETTO:+1300
TZNAME:NZDT
DTSTART:19700927T020000
RRULE:FREQ=YEARLY;BYMONTH=9;BYDAY=-1SU
END:DAYLIGHT
BEGIN:STANDARD
TZOFFSETFROM:+1300
TZOFFSETTO:+1200
TZNAME:NZST
DTSTART:19700405T030000
RRULE:FREQ=YEARLY;BYMONTH=4;BYDAY=1SU
END:STANDARD
END:VTIMEZONE
BEGIN:VEVENT
ORGANIZER:Kelly Macdonald:mailto:admin@ewit.co.nz
DTSTART:20211004T073000
DTEND:20211007T170000
LOCATION:Wool Shed, Clinton, South Otago
SEQUENCE:0
UID:e9b8aa0840b55dc9fb5cb7b6571fe1e7elitewoolindustrytraining.com
DTSTAMP:20260422T183254Z
DESCRIPTION:Beginner Shearing Course\n\n \n\nThis is a FOUR-DAY COURSE which will cover instruction and practical\ntraining in the following -\n\n 	* Health and Safety in the Industry and Woolshed environment\n 	* Animal Welfare and Animal Handling \n 	* Team Work\n 	* Handpiece set up and comb selection\n 	* Machine and handpiece maintenece\n 	* Grinding (sharpening) combs and cutters \n 	* Basic woolhandling\n 	* Introduction to woolpress and pressing\n 	* All crutching methods\n 	* Fitness and Nutrition\n 	* Introductory shearing\n\n - admin@ewit.co.nz - https://book.elitewoolindustrytraining.com/SOTA041021B
SUMMARY:SOUTH OTAGO - Beginner Shearing
END:VEVENT
END:VCALENDAR